BEGIN:VCALENDAR
VERSION:2.0
PRODID:-//Jurnal Istanbul - ECPv6.15.13.1//NONSGML v1.0//EN
CALSCALE:GREGORIAN
METHOD:PUBLISH
X-WR-CALNAME:Jurnal Istanbul
X-ORIGINAL-URL:https://jurnalistanbul.com
X-WR-CALDESC:Jurnal Istanbul için etkinlikler
REFRESH-INTERVAL;VALUE=DURATION:PT1H
X-Robots-Tag:noindex
X-PUBLISHED-TTL:PT1H
BEGIN:VTIMEZONE
TZID:Europe/Moscow
BEGIN:STANDARD
TZOFFSETFROM:+0300
TZOFFSETTO:+0300
TZNAME:MSK
DTSTART:20240101T000000
END:STANDARD
END:VTIMEZONE
BEGIN:VTIMEZONE
TZID:Europe/Istanbul
BEGIN:STANDARD
TZOFFSETFROM:+0300
TZOFFSETTO:+0300
TZNAME:+03
DTSTART:20240101T000000
END:STANDARD
END:VTIMEZONE
BEGIN:VEVENT
DTSTART;TZID=Europe/Moscow:20251225T210000
DTEND;TZID=Europe/Moscow:20251225T230000
DTSTAMP:20260422T143018
CREATED:20251027T095208Z
LAST-MODIFIED:20251027T111302Z
UID:2754-1766696400-1766703600@jurnalistanbul.com
SUMMARY:Nick Cave and The Bad Seeds
DESCRIPTION:15 Kasım 2025’te İstanbul’daki Volkswagen Arena sahnesinde müzik ve duygu dolu bir gece sizleri bekliyor. Dünyaca ünlü alternatif rock grubu Nick Cave & The Bad Seeds\, enerjisi yüksek\, derinlikli ve unutulmaz bir performansla Türkiye’de. Gelin\, bu konserin neden kaçırılmaması gereken bir etkinlik olduğunu birlikte keşfedelim. \nEfsanevi Grup ve Sahne Enerjisi\nNick Cave & The Bad Seeds\, 1980’lerin başından beri kendine özgü bir müzik dili kurmuş durumda. Cave’in karanlık\, şiirsel sözleri; grubun melodik ve çoğunlukla blues\, rock\, gotik alttellerle yoğrulan sound’u onları sadece bir müzik grubu değil\, bir “deneyim” hâline getiriyor. Grubun canlı performansları; sinematik\, yoğun ve iz bırakan karakteriyle tanınıyor. Örneğin bir eleştirmen\, grubun bir konserini “Tense and thunderous at times\, tender and cathartic at others” — yani “bazen gergin ve gök gürültüsü gibi\, bazen ise şefkatli ve temizleyici” şeklinde tanımlamış. \nBu bağlamda\, İstanbul’daki gece de sadece “şarkı dinleme” etkinliği değil; satırlarda\, notalarda\, sahnede bir atmosfer yaratma uğraşı olacak. \nMekân ve Atmosfer\nVolkswagen Arena\, modern mimarisi\, teknik donanımı ve ulaşılabilirliği ile dikkat çekiyor. İstanbul’un şehrin merkezine göre biraz daha dışında olmakla birlikte\, toplu taşıma ve araç ile ulaşım açısından oldukça elverişli. Konser için geldiğinizde sahne ışıkları\, ses sistemi ve mekânın genel enerjisi size “büyük bir şeyin parçası olduğunuzu” hissettirecek.\nKonser gecesi için öneri: Erken gitmek\, sahne ön / orta alanlarını değerlendirmek açısından önemli olabilir. Ayrıca mekânın kuralları ve ulaşım alternatifleri hakkında önceden bilgi almak fayda sağlar. \nMüzikal Hazırlık – Ne Bekleyebiliriz?\nGrup\, 2024–2025 dönemi boyunca yeni albümlerle sahnede. Örneğin albümlerinden bazı parçalar canlı performanslarında yer alıyor. \nBöylece hem yeni şarkılarla karşılaşma şansımız var hem de uzun yıllar boyunca sevilmiş “klasik” parçaları duymaya hazırlıklı olmalıyız.\nSet-list beklemek yerine sürprizlere açık olmak en iyisi. Çünkü Nick Cave sahnede alışılmışın dışında ara geçişler\, ani değişimler\, yoğun duygu akışları yaratabiliyor. Konser boyunca ruh halinizin de bir yolculuğa çıkacağını söyleyebiliriz. \nKültürel Bir Deneyim\nBu konser yalnızca bir akşam etkinliği değil. Kültürel bir buluşma noktası. Türkiye’de rock müzik meraklıları için uluslararası düzeyde bir sanatçının sahne alması\, hem yerel müzik sahnesi hem de dinleyici topluluğu için özel bir an. Ayrıca\, Nick Cave’in şarkılarındaki sembolizm\, edebî göndermeler ve kolektif duygu halleri — sizin gibi “motosiklet kültürü ve tarih meraklısı” bir içerik üreticisi için bile ilham verici olabilir. Çünkü müziğin teknolojik veya teknik yönlerinden öte\, sosyal bağları\, anlatıları ve ruh halini de taşıdığı bir kültüre işaret ediyor. \nNeden Gitmelisiniz?\n\nÇünkü benzersiz bir canlı performans deneyimi sizi bekliyor.\nÇünkü yeni nesil ve klasik şarkıların birleşimiyle hem keşif hem nostalji yaşanacak.\nÇünkü İstanbul gibi kültürel açıdan zengin bir şehirde böyle bir show izlemek\, sıradan bir konser değil bir etkinlik haline geliyor.\nVe çünkü gönlünüzde “zamanında orada olma” hissini bırakmak istemiyorsanız\, biletlerin tükenebileceğini unutmamak gerekli.\n\nHazırlık Tavsiyeleri\n\nBiletinizi erken almanız iyi olur; özellikle ön alanlarda yer bulma şansı kısa olabilir.\nGecikmemeye çalışın; sahne öncesi atmosferi ve ısınma parçalarını kaçırmak istemezsiniz.\nKonser öncesi ve sonrası ulaşım ve dönüş planınızı gözden geçirin — İstanbul’un bu saatlerde trafiği farklı olabilir.\nKamera ve telefon kullanımınıza dikkat edin; bazen sanatçılar sahne & izleyici etkileşimini önemser ve sahne kuralları olabilir.\nEn önemlisi: Müziğe açık olun. Şarkıların\, sahne ışıklarının\, izleyici enerjisinin sizi götürmesine izin verin.
URL:https://jurnalistanbul.com/etkinlikler/nick-cave-and-the-bad-seeds/
LOCATION:Wolkswagen Arena\, Huzur\, Maslak Ayazağa Cd. 4/A\, Sarıyer\, İstanbul\, 34396\, Turkey
CATEGORIES:Konser
ATTACH;FMTTYPE=image/jpeg:https://jurnalistanbul.com/wp-content/uploads/2025/10/nick.jpg
END:VEVENT
BEGIN:VEVENT
DTSTART;TZID=Europe/Moscow:20251208T213000
DTEND;TZID=Europe/Moscow:20251208T230000
DTSTAMP:20260422T143018
CREATED:20251027T095843Z
LAST-MODIFIED:20251027T111505Z
UID:2759-1765229400-1765234800@jurnalistanbul.com
SUMMARY:Red Hot Chili Peppers
DESCRIPTION:12 Aralık’ta\, İstanbul’un kalbi sayılan Ülker Arena sahnesinde gerçekleşecek bir etkinlik var: Funk-rock efsanesi Red Hot Chili Peppers sahneye çıkıyor! Müziğe\, tarihe ve coşkuya hazır olun. \nKimlerle Karşılaşacağız?\n1983 yılında Los Angeles’ta kurulan Red Hot Chili Peppers; vokalde Anthony Kiedis\, bas gitarda Flea\, davulda Chad Smith ve gitarda John Frusciante gibi efsanevi isimlerle rock sahnelerine yön verdi. \nFunk\, rock\, alternatif ve punk esaslı eklektik müzikleriyle onlar kendi kuşaklarını aşarak kült haline geldi. \nNeden Kaçırılmamalı?\nBu grup sadece bir konser değil; 40 yılı aşkın süredir müzik kültürünün parçası. \n“Black Summer” gibi şarkılarla yeni nesile ulaşmayı başardılar. \nİstanbul’da canlı performansları her zaman özel bir atmosfer yaratıyor: müzik\, ışık\, enerji bir arada. \nKonserden Neler Beklemeli?\n\nArenaya girer girmez sizi sahne ışıkları bir büyü gibi karşılayacak. Flea’nın bas gitari\, Anthony Kiedis’in kendine has vokali\, John Frusciante’nın gitar melodileri ve Chad Smith’in güçlü davulları birleşince… Kulaklarınız\, ruhunuz tüm coşkuya açılıyor.\nKlasikleriyle birlikte daha yeni şarkılarından bölümler de duyma şansı yüksek. Hem nostalji hem güncel…\nÜstelik kalabalığın coşkusu\, İstanbul’un sıcak rock sever ruhuyla birleşince unutulmaz bir gece ortaya çıkıyor.\n\nKültürel Bir Deneyim\nRed Hot Chili Peppers’in sahne performansı sadece müzik değil; yılların tecrübesiyle gelen bir kültür taşıyıcılığı. Yalnızca bir rock grubu değil; bir dönem\, bir duygu\, bir yaşam biçimi. İstanbul’daki konser bu kültürü yerinde hissetmek için muazzam bir fırsat. \nEğlenceye Hazır Mısın?\nKonser için tüm detaylar açıkça: İyi bir bilet al\, geç gelmemeye çalış\, sahneye yakın veya iyi görüş açılı bir yerde ol. Gürültü yüksek olacağından kulaklık düşünmek de iyi olabilir. Ama en önemlisi – elini kaldır\, enerjiyi hisset\, müziğe teslim ol.
URL:https://jurnalistanbul.com/etkinlikler/red-hot-chili-peppers/
LOCATION:Ülker Arena\, Barbaros\, Ihlamur Bv\, Ataşehir\, İstanbul\, 34746\, Turkey
CATEGORIES:Konser
ATTACH;FMTTYPE=image/jpeg:https://jurnalistanbul.com/wp-content/uploads/2025/10/redhot.jpg
END:VEVENT
BEGIN:VEVENT
DTSTART;TZID=Europe/Istanbul:20251201T080000
DTEND;TZID=Europe/Istanbul:20251201T170000
DTSTAMP:20260422T143018
CREATED:20251027T104647Z
LAST-MODIFIED:20251027T111639Z
UID:2774-1764576000-1764608400@jurnalistanbul.com
SUMMARY:PJ Harvey
DESCRIPTION:1 Aralık 2025’te Uniq İstanbul\, yılın en özel konserlerinden birine ev sahipliği yapacak. Alternatif rock dünyasının özgün sesi\, şiirsel anlatımı ve derin müzikal kimliğiyle tanınan PJ Harvey\, uzun bir aradan sonra İstanbul sahnesine dönüyor. Bu konser yalnızca bir performans değil; bir sanat deneyimi olacak. \nMüzikal Bir Efsane\nPJ Harvey\, 1990’ların başında müzik sahnesine adım attığından beri rock\, blues ve folk unsurlarını güçlü bir duygusal derinlikle harmanladı. “Rid of Me”\, “To Bring You My Love” ve “Stories from the City\, Stories from the Sea” gibi albümleriyle modern rock tarihine adını yazdırdı. Onun sesi; kimi zaman kırılgan\, kimi zaman da isyankâr… ama her zaman büyüleyici. \nKonserden Ne Beklemeli?\nUniq İstanbul’un atmosferi\, PJ Harvey’in karanlık ve lirik dünyasıyla mükemmel bir uyum yakalayacak. Sahneye çıktığı anda ortamı saran sessizlik\, ardından gelen ilk gitar sesiyle yerini hipnotize edici bir enerjiye bırakacak.Setlist’te hem eski klasiklerin hem de son albümünden parçaların yer alması bekleniyor. Özellikle son yıllarda yayınladığı şiirsel temalı eserler\, konserin duygusal yönünü güçlendirecek. \nNeden Kaçırılmamalı?\nÇünkü PJ Harvey sahnede yalnızca şarkı söylemez — hikâyeler anlatır. Her şarkı\, bir şiir kadar derin ve bir performans kadar etkileyici. Onu canlı izlemek\, müziğin kelimelerle dansına tanıklık etmek gibidir. \nHazırlık Zamanı\nBiletlerin hızla tükeneceği tahmin ediliyor. Erken gitmek\, sahneye yakın bir yer bulmak ve konserin atmosferine tamamen kapılmak için en iyi yol.1 Aralık gecesi\, Uniq İstanbul’da yalnızca bir konser değil; müziğin\, sözün ve duygunun birleştiği unutulmaz bir deneyim sizi bekliyor.
URL:https://jurnalistanbul.com/etkinlikler/pj-harvey/
LOCATION:UNIQ Istanbul\, Huzur\, Maslak Ayazağa Cd. No:4 Sarıyer\, İstanbul\, 34485\, Turkey
CATEGORIES:Konser
ATTACH;FMTTYPE=image/jpeg:https://jurnalistanbul.com/wp-content/uploads/2025/10/pj.jpg
END:VEVENT
END:VCALENDAR